BEGIN:VCALENDAR
VERSION:2.0
PRODID:-//wp-events-plugin.com//7.2.3.1//EN
BEGIN:VEVENT
UID:3@indusflow.com
DTSTART:20250923T000000Z
DTEND:20250923T000000Z
DTSTAMP:20250922T185554Z
URL:https://indusflow.com/events/new-webinar/
SUMMARY:new webinar
DESCRIPTION:[et_pb_section admin_label="section"]\n			[et_pb_row admin_labe
 l="row"]\n				[et_pb_column type="4_4"][/et_pb_column]\n			[/et_pb_row]\n	
 	[/et_pb_section]
END:VEVENT
END:VCALENDAR